BEGIN:VCALENDAR
VERSION:2.0
PRODID:-//Event-List//NONSGML Event-List 3.2.0//DE
CALSCALE:GREGORIAN
METHOD:PUBLISH
BEGIN:VEVENT
DTSTAMP:20260422T234449
DTSTART:20230624T100000
UID:20260422T234449@www.barbaras-wine-yards.de
SUMMARY:Craft Beer Bierbraukurs und BBQ / Kursleiter Arno Gänsmantel -  leider ausgebucht!
LOCATION:68723 Schwetzingen,Eichenweg  11
DESCRIPTION:http://www.bw-y.de/index.html\n
END:VEVENT
END:VCALENDAR
